BEGIN:VCALENDAR
VERSION:2.0
PRODID:-//wp-events-plugin.com//7.2.3.1//EN
TZID:Europe/Paris
X-WR-TIMEZONE:Europe/Paris
BEGIN:VEVENT
UID:34@jlo.bzh
DTSTART;TZID=Europe/Paris:20250905T190000
DTEND;TZID=Europe/Paris:20250905T220000
DTSTAMP:20250715T181224Z
URL:https://www.jlo.bzh/events/barbecue-de-rentree/
SUMMARY:Barbecue de rentrée
DESCRIPTION:Retrouvez les copains lors du barbecue de rentrée.\n\nInscript
 ions sur Yapla\n\nLieu : Foyer USOF près de la halle des sports à Orgèr
 es
END:VEVENT
BEGIN:VTIMEZONE
TZID:Europe/Paris
X-LIC-LOCATION:Europe/Paris
BEGIN:DAYLIGHT
DTSTART:20250330T030000
TZOFFSETFROM:+0100
TZOFFSETTO:+0200
TZNAME:CEST
END:DAYLIGHT
END:VTIMEZONE
END:VCALENDAR