BEGIN:VCALENDAR
VERSION:2.0
PRODID:-//wp-events-plugin.com//7.2.3.1//EN
TZID:Europe/Paris
X-WR-TIMEZONE:Europe/Paris
BEGIN:VEVENT
UID:86@jlo.bzh
DTSTART;TZID=Europe/Paris:20251106T184500
DTEND;TZID=Europe/Paris:20251106T200000
DTSTAMP:20250716T184451Z
URL:https://www.jlo.bzh/events/seance-specifique-15/
SUMMARY:Séance spécifique
DESCRIPTION:2x(6 montées lentes/6 descentes rapides)\nLa descente s'effect
 ue jusqu'au mur d'enceinte du château.
LOCATION:Rabine\, Rue des sports\, Orgères\, 35230\, France
X-APPLE-STRUCTURED-LOCATION;VALUE=URI;X-ADDRESS=Rue des sports\, Orgères\,
  35230\, France;X-APPLE-RADIUS=100;X-TITLE=Rabine:geo:0,0
END:VEVENT
BEGIN:VTIMEZONE
TZID:Europe/Paris
X-LIC-LOCATION:Europe/Paris
BEGIN:STANDARD
DTSTART:20251026T020000
TZOFFSETFROM:+0200
TZOFFSETTO:+0100
TZNAME:CET
END:STANDARD
END:VTIMEZONE
END:VCALENDAR