BEGIN:VCALENDAR
VERSION:2.0
PRODID:-//wp-events-plugin.com//7.2.3.1//EN
TZID:Europe/Paris
X-WR-TIMEZONE:Europe/Paris
BEGIN:VEVENT
UID:73@jlo.bzh
DTSTART;TZID=Europe/Paris:20250909T184500
DTEND;TZID=Europe/Paris:20250909T200000
DTSTAMP:20250716T182233Z
URL:https://www.jlo.bzh/events/seance-specifique-2/
SUMMARY:Séance spécifique
DESCRIPTION:Endurance musculaire pyramide\n2x(200m/400m/600m/400m/200m) - r
 =45"/1'30/2'/1'30/45" - R=3' à 80-85% de VMA
LOCATION:Piste\, Rue des sports\, Orgères\, 35230\, France
X-APPLE-STRUCTURED-LOCATION;VALUE=URI;X-ADDRESS=Rue des sports\, Orgères\,
  35230\, France;X-APPLE-RADIUS=100;X-TITLE=Piste:geo:0,0
END:VEVENT
BEGIN:VTIMEZONE
TZID:Europe/Paris
X-LIC-LOCATION:Europe/Paris
BEGIN:DAYLIGHT
DTSTART:20250330T030000
TZOFFSETFROM:+0100
TZOFFSETTO:+0200
TZNAME:CEST
END:DAYLIGHT
END:VTIMEZONE
END:VCALENDAR