BEGIN:VCALENDAR
VERSION:2.0
PRODID:-//wp-events-plugin.com//7.2.3.1//EN
TZID:Europe/Paris
X-WR-TIMEZONE:Europe/Paris
BEGIN:VEVENT
UID:96@jlo.bzh
DTSTART;TZID=Europe/Paris:20251223T184500
DTEND;TZID=Europe/Paris:20251223T200000
DTSTAMP:20250716T185943Z
URL:https://www.jlo.bzh/events/seance-specifique-25/
SUMMARY:Séance spécifique
DESCRIPTION:2x(500m à 80% VMA/500m à 80%VMA/400m à 90% VMA/300m à 95%VM
 A/200m à 95% VMA) - r=1'15"/1'15"/1'/1'/45"- R=3'
LOCATION:Piste\, Rue des sports\, Orgères\, 35230\, France
X-APPLE-STRUCTURED-LOCATION;VALUE=URI;X-ADDRESS=Rue des sports\, Orgères\,
  35230\, France;X-APPLE-RADIUS=100;X-TITLE=Piste:geo:0,0
END:VEVENT
BEGIN:VTIMEZONE
TZID:Europe/Paris
X-LIC-LOCATION:Europe/Paris
BEGIN:STANDARD
DTSTART:20251026T020000
TZOFFSETFROM:+0200
TZOFFSETTO:+0100
TZNAME:CET
END:STANDARD
END:VTIMEZONE
END:VCALENDAR