BEGIN:VCALENDAR
VERSION:2.0
PRODID:-//wp-events-plugin.com//7.2.3.1//EN
TZID:Europe/Paris
X-WR-TIMEZONE:Europe/Paris
BEGIN:VEVENT
UID:74@jlo.bzh
DTSTART;TZID=Europe/Paris:20250911T184500
DTEND;TZID=Europe/Paris:20250911T200000
DTSTAMP:20250716T182356Z
URL:https://www.jlo.bzh/events/seance-specifique-3/
SUMMARY:Séance spécifique
DESCRIPTION:4x(2L - r =L) - R =3' à 80% de VMA
LOCATION:Plessette\, Rue des sports\, Orgères\, 35230\, France
X-APPLE-STRUCTURED-LOCATION;VALUE=URI;X-ADDRESS=Rue des sports\, Orgères\,
  35230\, France;X-APPLE-RADIUS=100;X-TITLE=Plessette:geo:0,0
END:VEVENT
BEGIN:VTIMEZONE
TZID:Europe/Paris
X-LIC-LOCATION:Europe/Paris
BEGIN:DAYLIGHT
DTSTART:20250330T030000
TZOFFSETFROM:+0100
TZOFFSETTO:+0200
TZNAME:CEST
END:DAYLIGHT
END:VTIMEZONE
END:VCALENDAR