BEGIN:VCALENDAR
VERSION:2.0
PRODID:-//wp-events-plugin.com//7.2.3.1//EN
TZID:Europe/Paris
X-WR-TIMEZONE:Europe/Paris
BEGIN:VEVENT
UID:105@jlo.bzh
DTSTART;TZID=Europe/Paris:20260210T184500
DTEND;TZID=Europe/Paris:20260210T200000
DTSTAMP:20250716T190626Z
URL:https://www.jlo.bzh/events/seance-specifique-34/
SUMMARY:Séance spécifique
DESCRIPTION:(200m à 90% VMA/300m à 90% VMA/3x500m à 85% VMA/300m à 90% 
 VMA/200m à 90% VMA) - r=1'
LOCATION:Piste\, Rue des sports\, Orgères\, 35230\, France
X-APPLE-STRUCTURED-LOCATION;VALUE=URI;X-ADDRESS=Rue des sports\, Orgères\,
  35230\, France;X-APPLE-RADIUS=100;X-TITLE=Piste:geo:0,0
END:VEVENT
BEGIN:VTIMEZONE
TZID:Europe/Paris
X-LIC-LOCATION:Europe/Paris
BEGIN:STANDARD
DTSTART:20251026T020000
TZOFFSETFROM:+0200
TZOFFSETTO:+0100
TZNAME:CET
END:STANDARD
END:VTIMEZONE
END:VCALENDAR