BEGIN:VCALENDAR
VERSION:2.0
PRODID:-//wp-events-plugin.com//7.2.3.1//EN
TZID:Europe/Paris
X-WR-TIMEZONE:Europe/Paris
BEGIN:VEVENT
UID:76@jlo.bzh
DTSTART;TZID=Europe/Paris:20250923T184500
DTEND;TZID=Europe/Paris:20250923T200000
DTSTAMP:20250716T183047Z
URL:https://www.jlo.bzh/events/seance-specifique-5/
SUMMARY:Séance spécifique
DESCRIPTION:3 x (50m/100m/150m/200m) - r=descentes - R=3'
LOCATION:Cote de la Chevelure\, Rue des sports\, Orgères\, 35230\, France
X-APPLE-STRUCTURED-LOCATION;VALUE=URI;X-ADDRESS=Rue des sports\, Orgères\,
  35230\, France;X-APPLE-RADIUS=100;X-TITLE=Cote de la Chevelure:geo:0,0
END:VEVENT
BEGIN:VTIMEZONE
TZID:Europe/Paris
X-LIC-LOCATION:Europe/Paris
BEGIN:DAYLIGHT
DTSTART:20250330T030000
TZOFFSETFROM:+0100
TZOFFSETTO:+0200
TZNAME:CEST
END:DAYLIGHT
END:VTIMEZONE
END:VCALENDAR