BEGIN:VCALENDAR
VERSION:2.0
PRODID:-//wp-events-plugin.com//7.2.3.1//EN
TZID:Europe/Paris
X-WR-TIMEZONE:Europe/Paris
BEGIN:VEVENT
UID:79@jlo.bzh
DTSTART;TZID=Europe/Paris:20251007T184500
DTEND;TZID=Europe/Paris:20251007T200000
DTSTAMP:20250716T183511Z
URL:https://www.jlo.bzh/events/seance-specifique-8/
SUMMARY:Séance spécifique
DESCRIPTION:Pyramide 2x(1'/2'/3'/4'/3'/2'/1') - r =30"/1'/1'30/2'/1'30/1'/3
 0" - R=2'30 à 90-95% VMA
LOCATION:Lagune\, Rue des sports\, Orgères\, 35230\, France
X-APPLE-STRUCTURED-LOCATION;VALUE=URI;X-ADDRESS=Rue des sports\, Orgères\,
  35230\, France;X-APPLE-RADIUS=100;X-TITLE=Lagune:geo:0,0
END:VEVENT
BEGIN:VTIMEZONE
TZID:Europe/Paris
X-LIC-LOCATION:Europe/Paris
BEGIN:DAYLIGHT
DTSTART:20250330T030000
TZOFFSETFROM:+0100
TZOFFSETTO:+0200
TZNAME:CEST
END:DAYLIGHT
END:VTIMEZONE
END:VCALENDAR