BEGIN:VCALENDAR
VERSION:2.0
PRODID:-//wp-events-plugin.com//7.2.3.1//EN
TZID:Europe/Paris
X-WR-TIMEZONE:Europe/Paris
BEGIN:VEVENT
UID:63@jlo.bzh
DTSTART;TZID=Europe/Paris:20251026T090000
DTEND;TZID=Europe/Paris:20251026T120000
DTSTAMP:20250715T202056Z
URL:https://www.jlo.bzh/events/sortie-marche-2025-08-03-2025-08-10-2025-08
 -17-2025-08-24-2025-08-31-2025-09-07-2025-09-14-2025-09-21-2025-09-28-2025
 -10-05-2025-10-12-2025-10-19-2025-10-26/
SUMMARY:Sortie marche
DESCRIPTION:
END:VEVENT
BEGIN:VTIMEZONE
TZID:Europe/Paris
X-LIC-LOCATION:Europe/Paris
BEGIN:STANDARD
DTSTART:20251026T020000
TZOFFSETFROM:+0200
TZOFFSETTO:+0100
TZNAME:CET
END:STANDARD
END:VTIMEZONE
END:VCALENDAR